BEGIN:VCALENDAR
VERSION:2.0
PRODID:-//Goldgrube//myauktion.com//AT
CALSCALE:GREGORIAN
BEGIN:VEVENT
DTSTART:20260426T175600
DTEND:20260426T175630
LOCATION:Gewerbepark 13, 8562 Mooskirchen
DTSTAMP:20260422T060751
SUMMARY:MyAuktion: Ablauf Artikel Nr. 923693 Impfen mit den Augen des Herzens betrachtet 
URL;VALUE=URI:https://www.myauktion.com/versteigerung7662-position2443214-impfen-mit-den-augen-des-herzens-betrachtet.php
DESCRIPTION:
UID:myauktion-7662-2443214
BEGIN:VALARM
ACTION:DISPLAY
DESCRIPTION:
TRIGGER:-PT10M
END:VALARM
END:VEVENT
END:VCALENDAR