BEGIN:VCALENDAR
VERSION:2.0
PRODID:-//Goldgrube//myauktion.com//AT
CALSCALE:GREGORIAN
BEGIN:VEVENT
DTSTART:20260426T175700
DTEND:20260426T175730
LOCATION:Gewerbepark 13, 8562 Mooskirchen
DTSTAMP:20260421T234510
SUMMARY:MyAuktion: Ablauf Artikel Nr. 923694 Willst du Normal sein oder Glücklich?
URL;VALUE=URI:https://www.myauktion.com/versteigerung7662-position2443215-willst-du-normal-sein-oder-gluecklich.php
DESCRIPTION:Spiegel Bestseller 
UID:myauktion-7662-2443215
BEGIN:VALARM
ACTION:DISPLAY
DESCRIPTION:Spiegel Bestseller 
TRIGGER:-PT10M
END:VALARM
END:VEVENT
END:VCALENDAR