BEGIN:VCALENDAR
VERSION:2.0
PRODID:-//Goldgrube//myauktion.com//AT
CALSCALE:GREGORIAN
BEGIN:VEVENT
DTSTART:20260426T175800
DTEND:20260426T175830
LOCATION:Gewerbepark 13, 8562 Mooskirchen
DTSTAMP:20260421T234510
SUMMARY:MyAuktion: Ablauf Artikel Nr. 923695 Herz öffnen statt Kopf zerbrechen 
URL;VALUE=URI:https://www.myauktion.com/versteigerung7662-position2443216-herz-oeffnen-statt-kopf-zerbrechen.php
DESCRIPTION:
UID:myauktion-7662-2443216
BEGIN:VALARM
ACTION:DISPLAY
DESCRIPTION:
TRIGGER:-PT10M
END:VALARM
END:VEVENT
END:VCALENDAR