BEGIN:VCALENDAR
VERSION:2.0
PRODID:-//Goldgrube//myauktion.com//AT
CALSCALE:GREGORIAN
BEGIN:VEVENT
DTSTART:20260426T180000
DTEND:20260426T180030
LOCATION:Gewerbepark 13, 8562 Mooskirchen
DTSTAMP:20260421T234511
SUMMARY:MyAuktion: Ablauf Artikel Nr. 923697 Greg&#39;s Tagebuch, Endlich berühmt!
URL;VALUE=URI:https://www.myauktion.com/versteigerung7662-position2443218-greg-39s-tagebuch-endlich-beruehmt.php
DESCRIPTION:
UID:myauktion-7662-2443218
BEGIN:VALARM
ACTION:DISPLAY
DESCRIPTION:
TRIGGER:-PT10M
END:VALARM
END:VEVENT
END:VCALENDAR