BEGIN:VCALENDAR
VERSION:2.0
PRODID:-//Goldgrube//myauktion.com//AT
CALSCALE:GREGORIAN
BEGIN:VEVENT
DTSTART:20260426T180100
DTEND:20260426T180130
LOCATION:Gewerbepark 13, 8562 Mooskirchen
DTSTAMP:20260421T234510
SUMMARY:MyAuktion: Ablauf Artikel Nr. 923698 Auro-Soma
URL;VALUE=URI:https://www.myauktion.com/versteigerung7662-position2443219-auro-soma.php
DESCRIPTION:Der Weg des Herzens
UID:myauktion-7662-2443219
BEGIN:VALARM
ACTION:DISPLAY
DESCRIPTION:Der Weg des Herzens
TRIGGER:-PT10M
END:VALARM
END:VEVENT
END:VCALENDAR