BEGIN:VCALENDAR
VERSION:2.0
PRODID:-//Goldgrube//myauktion.com//AT
CALSCALE:GREGORIAN
BEGIN:VEVENT
DTSTART:20260426T181200
DTEND:20260426T181230
LOCATION:Gewerbepark 13, 8562 Mooskirchen
DTSTAMP:20260422T012945
SUMMARY:MyAuktion: Ablauf Artikel Nr. 923709 Operatives Controlling
URL;VALUE=URI:https://www.myauktion.com/versteigerung7662-position2443230-operatives-controlling.php
DESCRIPTION:Ohne Cd
UID:myauktion-7662-2443230
BEGIN:VALARM
ACTION:DISPLAY
DESCRIPTION:Ohne Cd
TRIGGER:-PT10M
END:VALARM
END:VEVENT
END:VCALENDAR