BEGIN:VCALENDAR
VERSION:2.0
PRODID:-//Goldgrube//myauktion.com//AT
CALSCALE:GREGORIAN
BEGIN:VEVENT
DTSTART:20260426T181400
DTEND:20260426T181430
LOCATION:Gewerbepark 13, 8562 Mooskirchen
DTSTAMP:20260421T234511
SUMMARY:MyAuktion: Ablauf Artikel Nr. 923711 The Water is never Cold
URL;VALUE=URI:https://www.myauktion.com/versteigerung7662-position2443232-the-water-is-never-cold.php
DESCRIPTION:
UID:myauktion-7662-2443232
BEGIN:VALARM
ACTION:DISPLAY
DESCRIPTION:
TRIGGER:-PT10M
END:VALARM
END:VEVENT
END:VCALENDAR