BEGIN:VCALENDAR
VERSION:2.0
PRODID:-//Goldgrube//myauktion.com//AT
CALSCALE:GREGORIAN
BEGIN:VEVENT
DTSTART:20260426T181500
DTEND:20260426T181530
LOCATION:Gewerbepark 13, 8562 Mooskirchen
DTSTAMP:20260421T234507
SUMMARY:MyAuktion: Ablauf Artikel Nr. 923712 Quatuor Coronati
URL;VALUE=URI:https://www.myauktion.com/versteigerung7662-position2443233-quatuor-coronati.php
DESCRIPTION:
UID:myauktion-7662-2443233
BEGIN:VALARM
ACTION:DISPLAY
DESCRIPTION:
TRIGGER:-PT10M
END:VALARM
END:VEVENT
END:VCALENDAR