BEGIN:VCALENDAR
VERSION:2.0
PRODID:-//Goldgrube//myauktion.com//AT
CALSCALE:GREGORIAN
BEGIN:VEVENT
DTSTART:20260426T181800
DTEND:20260426T181830
LOCATION:Gewerbepark 13, 8562 Mooskirchen
DTSTAMP:20260421T234508
SUMMARY:MyAuktion: Ablauf Artikel Nr. 923715 Adria Explorer
URL;VALUE=URI:https://www.myauktion.com/versteigerung7662-position2443236-adria-explorer.php
DESCRIPTION:Inklusive 2 Cds
UID:myauktion-7662-2443236
BEGIN:VALARM
ACTION:DISPLAY
DESCRIPTION:Inklusive 2 Cds
TRIGGER:-PT10M
END:VALARM
END:VEVENT
END:VCALENDAR