BEGIN:VCALENDAR
VERSION:2.0
PRODID:-//Goldgrube//myauktion.com//AT
CALSCALE:GREGORIAN
BEGIN:VEVENT
DTSTART:20260426T181900
DTEND:20260426T181930
LOCATION:Gewerbepark 13, 8562 Mooskirchen
DTSTAMP:20260421T234509
SUMMARY:MyAuktion: Ablauf Artikel Nr. 923716 Gesund durch Tachyon
URL;VALUE=URI:https://www.myauktion.com/versteigerung7662-position2443237-gesund-durch-tachyon.php
DESCRIPTION:
UID:myauktion-7662-2443237
BEGIN:VALARM
ACTION:DISPLAY
DESCRIPTION:
TRIGGER:-PT10M
END:VALARM
END:VEVENT
END:VCALENDAR