BEGIN:VCALENDAR
VERSION:2.0
PRODID:-//Goldgrube//myauktion.com//AT
CALSCALE:GREGORIAN
BEGIN:VEVENT
DTSTART:20260426T182100
DTEND:20260426T182130
LOCATION:Gewerbepark 13, 8562 Mooskirchen
DTSTAMP:20260421T234511
SUMMARY:MyAuktion: Ablauf Artikel Nr. 923718 Heilsteine
URL;VALUE=URI:https://www.myauktion.com/versteigerung7662-position2443239-heilsteine.php
DESCRIPTION:430 Steine von A-Z
UID:myauktion-7662-2443239
BEGIN:VALARM
ACTION:DISPLAY
DESCRIPTION:430 Steine von A-Z
TRIGGER:-PT10M
END:VALARM
END:VEVENT
END:VCALENDAR