BEGIN:VCALENDAR
VERSION:2.0
PRODID:-//Goldgrube//myauktion.com//AT
CALSCALE:GREGORIAN
BEGIN:VEVENT
DTSTART:20260426T182500
DTEND:20260426T182530
LOCATION:Gewerbepark 13, 8562 Mooskirchen
DTSTAMP:20260421T234510
SUMMARY:MyAuktion: Ablauf Artikel Nr. 923722 Fucking Volkstheater
URL;VALUE=URI:https://www.myauktion.com/versteigerung7662-position2443243-fucking-volkstheater.php
DESCRIPTION:
UID:myauktion-7662-2443243
BEGIN:VALARM
ACTION:DISPLAY
DESCRIPTION:
TRIGGER:-PT10M
END:VALARM
END:VEVENT
END:VCALENDAR