BEGIN:VCALENDAR
VERSION:2.0
PRODID:-//Goldgrube//myauktion.com//AT
CALSCALE:GREGORIAN
BEGIN:VEVENT
DTSTART:20260426T182600
DTEND:20260426T182630
LOCATION:Gewerbepark 13, 8562 Mooskirchen
DTSTAMP:20260421T234507
SUMMARY:MyAuktion: Ablauf Artikel Nr. 923723 Swift & Hawk
URL;VALUE=URI:https://www.myauktion.com/versteigerung7662-position2443244-swift-38-hawk.php
DESCRIPTION:Cyberagenten
UID:myauktion-7662-2443244
BEGIN:VALARM
ACTION:DISPLAY
DESCRIPTION:Cyberagenten
TRIGGER:-PT10M
END:VALARM
END:VEVENT
END:VCALENDAR