BEGIN:VCALENDAR
VERSION:2.0
PRODID:-//Goldgrube//myauktion.com//AT
CALSCALE:GREGORIAN
BEGIN:VEVENT
DTSTART:20260426T183000
DTEND:20260426T183030
LOCATION:Gewerbepark 13, 8562 Mooskirchen
DTSTAMP:20260421T234506
SUMMARY:MyAuktion: Ablauf Artikel Nr. 923727 A Serial Killer&#39;s Guide to Marriage
URL;VALUE=URI:https://www.myauktion.com/versteigerung7662-position2443248-a-serial-killer-39s-guide-to-marriage.php
DESCRIPTION:
UID:myauktion-7662-2443248
BEGIN:VALARM
ACTION:DISPLAY
DESCRIPTION:
TRIGGER:-PT10M
END:VALARM
END:VEVENT
END:VCALENDAR