BEGIN:VCALENDAR
VERSION:2.0
PRODID:-//Goldgrube//myauktion.com//AT
CALSCALE:GREGORIAN
BEGIN:VEVENT
DTSTART:20260426T183100
DTEND:20260426T183130
LOCATION:Gewerbepark 13, 8562 Mooskirchen
DTSTAMP:20260422T012945
SUMMARY:MyAuktion: Ablauf Artikel Nr. 923728 +2 Grad
URL;VALUE=URI:https://www.myauktion.com/versteigerung7662-position2443249--2-grad.php
DESCRIPTION:Warum wir uns für die Rettung der Welt erwärmen sollten
UID:myauktion-7662-2443249
BEGIN:VALARM
ACTION:DISPLAY
DESCRIPTION:Warum wir uns für die Rettung der Welt erwärmen sollten
TRIGGER:-PT10M
END:VALARM
END:VEVENT
END:VCALENDAR