BEGIN:VCALENDAR
VERSION:2.0
PRODID:-//Goldgrube//myauktion.com//AT
CALSCALE:GREGORIAN
BEGIN:VEVENT
DTSTART:20260426T183200
DTEND:20260426T183230
LOCATION:Gewerbepark 13, 8562 Mooskirchen
DTSTAMP:20260421T234511
SUMMARY:MyAuktion: Ablauf Artikel Nr. 923729 Kolloidales Silber
URL;VALUE=URI:https://www.myauktion.com/versteigerung7662-position2443250-kolloidales-silber.php
DESCRIPTION:Das gesunde Antibiotikum für Mensch und Tier 
UID:myauktion-7662-2443250
BEGIN:VALARM
ACTION:DISPLAY
DESCRIPTION:Das gesunde Antibiotikum für Mensch und Tier 
TRIGGER:-PT10M
END:VALARM
END:VEVENT
END:VCALENDAR