BEGIN:VCALENDAR
VERSION:2.0
PRODID:-//Goldgrube//myauktion.com//AT
CALSCALE:GREGORIAN
BEGIN:VEVENT
DTSTART:20260426T183500
DTEND:20260426T183530
LOCATION:Gewerbepark 13, 8562 Mooskirchen
DTSTAMP:20260421T234508
SUMMARY:MyAuktion: Ablauf Artikel Nr. 923732 AI Revolution 
URL;VALUE=URI:https://www.myauktion.com/versteigerung7662-position2443253-ai-revolution.php
DESCRIPTION:
UID:myauktion-7662-2443253
BEGIN:VALARM
ACTION:DISPLAY
DESCRIPTION:
TRIGGER:-PT10M
END:VALARM
END:VEVENT
END:VCALENDAR