BEGIN:VCALENDAR
VERSION:2.0
PRODID:-//Goldgrube//myauktion.com//AT
CALSCALE:GREGORIAN
BEGIN:VEVENT
DTSTART:20260426T183900
DTEND:20260426T183930
LOCATION:Gewerbepark 13, 8562 Mooskirchen
DTSTAMP:20260421T234502
SUMMARY:MyAuktion: Ablauf Artikel Nr. 923736 Satan ist kein Mythos 
URL;VALUE=URI:https://www.myauktion.com/versteigerung7662-position2443257-satan-ist-kein-mythos.php
DESCRIPTION:
UID:myauktion-7662-2443257
BEGIN:VALARM
ACTION:DISPLAY
DESCRIPTION:
TRIGGER:-PT10M
END:VALARM
END:VEVENT
END:VCALENDAR