BEGIN:VCALENDAR
VERSION:2.0
PRODID:-//Goldgrube//myauktion.com//AT
CALSCALE:GREGORIAN
BEGIN:VEVENT
DTSTART:20260426T184100
DTEND:20260426T184130
LOCATION:Gewerbepark 13, 8562 Mooskirchen
DTSTAMP:20260421T234509
SUMMARY:MyAuktion: Ablauf Artikel Nr. 923738 Eine Schale Getreide verändert die Welt 
URL;VALUE=URI:https://www.myauktion.com/versteigerung7662-position2443259-eine-schale-getreide-veraendert-die-welt.php
DESCRIPTION:
UID:myauktion-7662-2443259
BEGIN:VALARM
ACTION:DISPLAY
DESCRIPTION:
TRIGGER:-PT10M
END:VALARM
END:VEVENT
END:VCALENDAR