BEGIN:VCALENDAR
VERSION:2.0
PRODID:-//Goldgrube//myauktion.com//AT
CALSCALE:GREGORIAN
BEGIN:VEVENT
DTSTART:20260426T184200
DTEND:20260426T184230
LOCATION:Gewerbepark 13, 8562 Mooskirchen
DTSTAMP:20260422T060751
SUMMARY:MyAuktion: Ablauf Artikel Nr. 923739 Ein Weihnachtsmärchen für Alexander und Paul
URL;VALUE=URI:https://www.myauktion.com/versteigerung7662-position2443260-ein-weihnachtsmaerchen-fuer-alexander-und-paul.php
DESCRIPTION:
UID:myauktion-7662-2443260
BEGIN:VALARM
ACTION:DISPLAY
DESCRIPTION:
TRIGGER:-PT10M
END:VALARM
END:VEVENT
END:VCALENDAR