BEGIN:VCALENDAR
VERSION:2.0
PRODID:-//Goldgrube//myauktion.com//AT
CALSCALE:GREGORIAN
BEGIN:VEVENT
DTSTART:20260426T184400
DTEND:20260426T184430
LOCATION:Gewerbepark 13, 8562 Mooskirchen
DTSTAMP:20260421T234509
SUMMARY:MyAuktion: Ablauf Artikel Nr. 923741 Die liebte die mächtigen der Welt
URL;VALUE=URI:https://www.myauktion.com/versteigerung7662-position2443262-die-liebte-die-maechtigen-der-welt.php
DESCRIPTION:
UID:myauktion-7662-2443262
BEGIN:VALARM
ACTION:DISPLAY
DESCRIPTION:
TRIGGER:-PT10M
END:VALARM
END:VEVENT
END:VCALENDAR