BEGIN:VCALENDAR
VERSION:2.0
PRODID:-//Goldgrube//myauktion.com//AT
CALSCALE:GREGORIAN
BEGIN:VEVENT
DTSTART:20260426T184500
DTEND:20260426T184530
LOCATION:Gewerbepark 13, 8562 Mooskirchen
DTSTAMP:20260421T234510
SUMMARY:MyAuktion: Ablauf Artikel Nr. 923742 Macht Menschen 
URL;VALUE=URI:https://www.myauktion.com/versteigerung7662-position2443263-macht-menschen.php
DESCRIPTION:Spielregeln für den Weg an die Spitze
UID:myauktion-7662-2443263
BEGIN:VALARM
ACTION:DISPLAY
DESCRIPTION:Spielregeln für den Weg an die Spitze
TRIGGER:-PT10M
END:VALARM
END:VEVENT
END:VCALENDAR