BEGIN:VCALENDAR
VERSION:2.0
PRODID:-//Goldgrube//myauktion.com//AT
CALSCALE:GREGORIAN
BEGIN:VEVENT
DTSTART:20260426T184600
DTEND:20260426T184630
LOCATION:Gewerbepark 13, 8562 Mooskirchen
DTSTAMP:20260422T060750
SUMMARY:MyAuktion: Ablauf Artikel Nr. 923743 Die fabelhafte Hüte der Signora Montani
URL;VALUE=URI:https://www.myauktion.com/versteigerung7662-position2443264-die-fabelhafte-huete-der-signora-montani.php
DESCRIPTION:
UID:myauktion-7662-2443264
BEGIN:VALARM
ACTION:DISPLAY
DESCRIPTION:
TRIGGER:-PT10M
END:VALARM
END:VEVENT
END:VCALENDAR