BEGIN:VCALENDAR
VERSION:2.0
PRODID:-//Goldgrube//myauktion.com//AT
CALSCALE:GREGORIAN
BEGIN:VEVENT
DTSTART:20260426T185200
DTEND:20260426T185230
LOCATION:Gewerbepark 13, 8562 Mooskirchen
DTSTAMP:20260422T060748
SUMMARY:MyAuktion: Ablauf Artikel Nr. 923749 Biologie für Alle
URL;VALUE=URI:https://www.myauktion.com/versteigerung7662-position2443270-biologie-fuer-alle.php
DESCRIPTION:
UID:myauktion-7662-2443270
BEGIN:VALARM
ACTION:DISPLAY
DESCRIPTION:
TRIGGER:-PT10M
END:VALARM
END:VEVENT
END:VCALENDAR