BEGIN:VCALENDAR
VERSION:2.0
PRODID:-//Goldgrube//myauktion.com//AT
CALSCALE:GREGORIAN
BEGIN:VEVENT
DTSTART:20260426T185400
DTEND:20260426T185430
LOCATION:Gewerbepark 13, 8562 Mooskirchen
DTSTAMP:20260422T060749
SUMMARY:MyAuktion: Ablauf Artikel Nr. 923751 Originalverpackt, Masterpieces of the Collection of Historic Musical Instruments
URL;VALUE=URI:https://www.myauktion.com/versteigerung7662-position2443272-originalverpackt-masterpieces-of-the-collection-of-historic-musical-instruments.php
DESCRIPTION:
UID:myauktion-7662-2443272
BEGIN:VALARM
ACTION:DISPLAY
DESCRIPTION:
TRIGGER:-PT10M
END:VALARM
END:VEVENT
END:VCALENDAR