BEGIN:VCALENDAR
VERSION:2.0
PRODID:-//Goldgrube//myauktion.com//AT
CALSCALE:GREGORIAN
BEGIN:VEVENT
DTSTART:20260426T185500
DTEND:20260426T185530
LOCATION:Gewerbepark 13, 8562 Mooskirchen
DTSTAMP:20260422T060750
SUMMARY:MyAuktion: Ablauf Artikel Nr. 923752 Worlds of Worl: Peasants and Artisans, Engineeres and Theorists
URL;VALUE=URI:https://www.myauktion.com/versteigerung7662-position2443273-worlds-of-worl-peasants-and-artisans-engineeres-and-theorists.php
DESCRIPTION:Seitlich beschäftigt 
UID:myauktion-7662-2443273
BEGIN:VALARM
ACTION:DISPLAY
DESCRIPTION:Seitlich beschäftigt 
TRIGGER:-PT10M
END:VALARM
END:VEVENT
END:VCALENDAR