BEGIN:VCALENDAR
VERSION:2.0
PRODID:-//Goldgrube//myauktion.com//AT
CALSCALE:GREGORIAN
BEGIN:VEVENT
DTSTART:20260426T185800
DTEND:20260426T185830
LOCATION:Gewerbepark 13, 8562 Mooskirchen
DTSTAMP:20260421T234506
SUMMARY:MyAuktion: Ablauf Artikel Nr. 923755 0 1 2
URL;VALUE=URI:https://www.myauktion.com/versteigerung7662-position2443276-0-1-2.php
DESCRIPTION:Titelseite beschädigt 
UID:myauktion-7662-2443276
BEGIN:VALARM
ACTION:DISPLAY
DESCRIPTION:Titelseite beschädigt 
TRIGGER:-PT10M
END:VALARM
END:VEVENT
END:VCALENDAR