BEGIN:VCALENDAR
VERSION:2.0
PRODID:-//Goldgrube//myauktion.com//AT
CALSCALE:GREGORIAN
BEGIN:VEVENT
DTSTART:20260426T190200
DTEND:20260426T190230
LOCATION:Gewerbepark 13, 8562 Mooskirchen
DTSTAMP:20260421T234511
SUMMARY:MyAuktion: Ablauf Artikel Nr. 923759 Schutzengel
URL;VALUE=URI:https://www.myauktion.com/versteigerung7662-position2443280-schutzengel.php
DESCRIPTION:Rückseite beschädigt 
UID:myauktion-7662-2443280
BEGIN:VALARM
ACTION:DISPLAY
DESCRIPTION:Rückseite beschädigt 
TRIGGER:-PT10M
END:VALARM
END:VEVENT
END:VCALENDAR