BEGIN:VCALENDAR
VERSION:2.0
PRODID:-//Goldgrube//myauktion.com//AT
CALSCALE:GREGORIAN
BEGIN:VEVENT
DTSTART:20260426T190300
DTEND:20260426T190330
LOCATION:Gewerbepark 13, 8562 Mooskirchen
DTSTAMP:20260421T234508
SUMMARY:MyAuktion: Ablauf Artikel Nr. 923760 Rauch und Schall
URL;VALUE=URI:https://www.myauktion.com/versteigerung7662-position2443281-rauch-und-schall.php
DESCRIPTION:
UID:myauktion-7662-2443281
BEGIN:VALARM
ACTION:DISPLAY
DESCRIPTION:
TRIGGER:-PT10M
END:VALARM
END:VEVENT
END:VCALENDAR