BEGIN:VCALENDAR
VERSION:2.0
PRODID:-//Goldgrube//myauktion.com//AT
CALSCALE:GREGORIAN
BEGIN:VEVENT
DTSTART:20260506T130100
DTEND:20260506T130130
LOCATION:Gewerbepark 13, 8562 Mooskirchen
DTSTAMP:20260423T011956
SUMMARY:MyAuktion: Ablauf Artikel Nr. 957026 Hantel mit Gewichte ca. 19kg 
URL;VALUE=URI:https://www.myauktion.com/versteigerung7660-position2443317-hantel-mit-gewichte-ca-19kg.php
DESCRIPTION:Loch Durchmesser ca. 3cm / ohne Schütte 
UID:myauktion-7660-2443317
BEGIN:VALARM
ACTION:DISPLAY
DESCRIPTION:Loch Durchmesser ca. 3cm / ohne Schütte 
TRIGGER:-PT10M
END:VALARM
END:VEVENT
END:VCALENDAR