BEGIN:VCALENDAR
VERSION:2.0
PRODID:-//Goldgrube//myauktion.com//AT
CALSCALE:GREGORIAN
BEGIN:VEVENT
DTSTART:20260506T130200
DTEND:20260506T130230
LOCATION:Gewerbepark 13, 8562 Mooskirchen
DTSTAMP:20260423T011959
SUMMARY:MyAuktion: Ablauf Artikel Nr. 957027 Kapten & Son Helsinki Pro All Black 
URL;VALUE=URI:https://www.myauktion.com/versteigerung7660-position2443318-kapten-38-son-helsinki-pro-all-black.php
DESCRIPTION:
UID:myauktion-7660-2443318
BEGIN:VALARM
ACTION:DISPLAY
DESCRIPTION:
TRIGGER:-PT10M
END:VALARM
END:VEVENT
END:VCALENDAR