BEGIN:VCALENDAR
VERSION:2.0
PRODID:-//Goldgrube//myauktion.com//AT
CALSCALE:GREGORIAN
BEGIN:VEVENT
DTSTART:20260506T130300
DTEND:20260506T130330
LOCATION:Gewerbepark 13, 8562 Mooskirchen
DTSTAMP:20260423T011955
SUMMARY:MyAuktion: Ablauf Artikel Nr. 957028 Waschbeckenunterschrank Amanda/Mando 301 
URL;VALUE=URI:https://www.myauktion.com/versteigerung7660-position2443319-waschbeckenunterschrank-amanda-mando-301.php
DESCRIPTION:Verpackung beschädigt 
UID:myauktion-7660-2443319
BEGIN:VALARM
ACTION:DISPLAY
DESCRIPTION:Verpackung beschädigt 
TRIGGER:-PT10M
END:VALARM
END:VEVENT
END:VCALENDAR