BEGIN:VCALENDAR
VERSION:2.0
PRODID:-//Goldgrube//myauktion.com//AT
CALSCALE:GREGORIAN
BEGIN:VEVENT
DTSTART:20260506T130500
DTEND:20260506T130530
LOCATION:Gewerbepark 13, 8562 Mooskirchen
DTSTAMP:20260423T011953
SUMMARY:MyAuktion: Ablauf Artikel Nr. 957030 Philips Micro-Musiksystem 4000Series TAM4505/12 
URL;VALUE=URI:https://www.myauktion.com/versteigerung7660-position2443321-philips-micro-musiksystem-4000series-tam4505-12.php
DESCRIPTION:Verpackung beschädigt 
UID:myauktion-7660-2443321
BEGIN:VALARM
ACTION:DISPLAY
DESCRIPTION:Verpackung beschädigt 
TRIGGER:-PT10M
END:VALARM
END:VEVENT
END:VCALENDAR