BEGIN:VCALENDAR
VERSION:2.0
PRODID:-//Goldgrube//myauktion.com//AT
CALSCALE:GREGORIAN
BEGIN:VEVENT
DTSTART:20260506T130900
DTEND:20260506T130930
LOCATION:Gewerbepark 13, 8562 Mooskirchen
DTSTAMP:20260423T011958
SUMMARY:MyAuktion: Ablauf Artikel Nr. 957184 Dekorative Schmuckhand
URL;VALUE=URI:https://www.myauktion.com/versteigerung7660-position2443323-dekorative-schmuckhand.php
DESCRIPTION:Ca 32cm hoch, gebraucht
UID:myauktion-7660-2443323
BEGIN:VALARM
ACTION:DISPLAY
DESCRIPTION:Ca 32cm hoch, gebraucht
TRIGGER:-PT10M
END:VALARM
END:VEVENT
END:VCALENDAR