BEGIN:VCALENDAR
VERSION:2.0
PRODID:-//Goldgrube//myauktion.com//AT
CALSCALE:GREGORIAN
BEGIN:VEVENT
DTSTART:20260506T134700
DTEND:20260506T134730
LOCATION:Gewerbepark 13, 8562 Mooskirchen
DTSTAMP:20260422T233755
SUMMARY:MyAuktion: Ablauf Artikel Nr. 957909 Weihnachtsbaum Plastik zum zusammenstecken ca170cm mit Lichterkette und Ständer  
URL;VALUE=URI:https://www.myauktion.com/versteigerung7660-position2443324-weihnachtsbaum-plastik-zum-zusammenstecken-ca170cm-mit-lichterkette-und-staender.php
DESCRIPTION:
UID:myauktion-7660-2443324
BEGIN:VALARM
ACTION:DISPLAY
DESCRIPTION:
TRIGGER:-PT10M
END:VALARM
END:VEVENT
END:VCALENDAR