BEGIN:VCALENDAR
VERSION:2.0
PRODID:-//Goldgrube//myauktion.com//AT
CALSCALE:GREGORIAN
BEGIN:VEVENT
DTSTART:20260506T131100
DTEND:20260506T131130
LOCATION:Gewerbepark 13, 8562 Mooskirchen
DTSTAMP:20260423T011957
SUMMARY:MyAuktion: Ablauf Artikel Nr. 957186 Hella Lichtmaschine 
URL;VALUE=URI:https://www.myauktion.com/versteigerung7660-position2443326-hella-lichtmaschine.php
DESCRIPTION:Art.No. 8EL 011 710-791, Gebraucht
UID:myauktion-7660-2443326
BEGIN:VALARM
ACTION:DISPLAY
DESCRIPTION:Art.No. 8EL 011 710-791, Gebraucht
TRIGGER:-PT10M
END:VALARM
END:VEVENT
END:VCALENDAR