BEGIN:VCALENDAR
VERSION:2.0
PRODID:-//Goldgrube//myauktion.com//AT
CALSCALE:GREGORIAN
BEGIN:VEVENT
DTSTART:20260506T131200
DTEND:20260506T131230
LOCATION:Gewerbepark 13, 8562 Mooskirchen
DTSTAMP:20260422T233756
SUMMARY:MyAuktion: Ablauf Artikel Nr. 957187 Finer Form Multi-Funktions FID Hantelbank 
URL;VALUE=URI:https://www.myauktion.com/versteigerung7660-position2443328-finer-form-multi-funktions-fid-hantelbank.php
DESCRIPTION:Ca 129×37×20cm, Art.No. FF-TB22302
UID:myauktion-7660-2443328
BEGIN:VALARM
ACTION:DISPLAY
DESCRIPTION:Ca 129×37×20cm, Art.No. FF-TB22302
TRIGGER:-PT10M
END:VALARM
END:VEVENT
END:VCALENDAR