BEGIN:VCALENDAR
VERSION:2.0
PRODID:-//Goldgrube//myauktion.com//AT
CALSCALE:GREGORIAN
BEGIN:VEVENT
DTSTART:20260506T131300
DTEND:20260506T131330
LOCATION:Gewerbepark 13, 8562 Mooskirchen
DTSTAMP:20260422T233756
SUMMARY:MyAuktion: Ablauf Artikel Nr. 957188 DXRacer Gamingstuhl Model No. Prince PF132 WNFN
URL;VALUE=URI:https://www.myauktion.com/versteigerung7660-position2443329-dxracer-gamingstuhl-model-no-prince-pf132-wnfn.php
DESCRIPTION:Model No. Prince PF132 WNFN
UID:myauktion-7660-2443329
BEGIN:VALARM
ACTION:DISPLAY
DESCRIPTION:Model No. Prince PF132 WNFN
TRIGGER:-PT10M
END:VALARM
END:VEVENT
END:VCALENDAR