BEGIN:VCALENDAR
VERSION:2.0
PRODID:-//Goldgrube//myauktion.com//AT
CALSCALE:GREGORIAN
BEGIN:VEVENT
DTSTART:20260506T134900
DTEND:20260506T134930
LOCATION:Gewerbepark 13, 8562 Mooskirchen
DTSTAMP:20260423T012000
SUMMARY:MyAuktion: Ablauf Artikel Nr. 957911 Schock Einsatzwaschbecken Cristadur Tol D-100x Stone 
URL;VALUE=URI:https://www.myauktion.com/versteigerung7660-position2443330-schock-einsatzwaschbecken-cristadur-tol-d-100x-stone.php
DESCRIPTION:
UID:myauktion-7660-2443330
BEGIN:VALARM
ACTION:DISPLAY
DESCRIPTION:
TRIGGER:-PT10M
END:VALARM
END:VEVENT
END:VCALENDAR