BEGIN:VCALENDAR
VERSION:2.0
PRODID:-//Goldgrube//myauktion.com//AT
CALSCALE:GREGORIAN
BEGIN:VEVENT
DTSTART:20260506T131400
DTEND:20260506T131430
LOCATION:Gewerbepark 13, 8562 Mooskirchen
DTSTAMP:20260423T011956
SUMMARY:MyAuktion: Ablauf Artikel Nr. 957189 Ikea Wandregal "Lack"
URL;VALUE=URI:https://www.myauktion.com/versteigerung7660-position2443331-ikea-wandregal-34lack-34.php
DESCRIPTION:190×26cm
UID:myauktion-7660-2443331
BEGIN:VALARM
ACTION:DISPLAY
DESCRIPTION:190×26cm
TRIGGER:-PT10M
END:VALARM
END:VEVENT
END:VCALENDAR