BEGIN:VCALENDAR
VERSION:2.0
PRODID:-//Goldgrube//myauktion.com//AT
CALSCALE:GREGORIAN
BEGIN:VEVENT
DTSTART:20260506T135000
DTEND:20260506T135030
LOCATION:Gewerbepark 13, 8562 Mooskirchen
DTSTAMP:20260422T224007
SUMMARY:MyAuktion: Ablauf Artikel Nr. 957912 Elegance High V3 Cross Bar für Ford Custom 
URL;VALUE=URI:https://www.myauktion.com/versteigerung7660-position2443332-elegance-high-v3-cross-bar-fuer-ford-custom.php
DESCRIPTION:
UID:myauktion-7660-2443332
BEGIN:VALARM
ACTION:DISPLAY
DESCRIPTION:
TRIGGER:-PT10M
END:VALARM
END:VEVENT
END:VCALENDAR