BEGIN:VCALENDAR
VERSION:2.0
PRODID:-//Goldgrube//myauktion.com//AT
CALSCALE:GREGORIAN
BEGIN:VEVENT
DTSTART:20260506T131500
DTEND:20260506T131530
LOCATION:Gewerbepark 13, 8562 Mooskirchen
DTSTAMP:20260423T012003
SUMMARY:MyAuktion: Ablauf Artikel Nr. 957190 Ehrenkind Kinderbett Model "Sona"
URL;VALUE=URI:https://www.myauktion.com/versteigerung7660-position2443333-ehrenkind-kinderbett-model-34sona-34.php
DESCRIPTION:Ca 90×200cm Teil 1
UID:myauktion-7660-2443333
BEGIN:VALARM
ACTION:DISPLAY
DESCRIPTION:Ca 90×200cm Teil 1
TRIGGER:-PT10M
END:VALARM
END:VEVENT
END:VCALENDAR