BEGIN:VCALENDAR
VERSION:2.0
PRODID:-//Goldgrube//myauktion.com//AT
CALSCALE:GREGORIAN
BEGIN:VEVENT
DTSTART:20260506T142600
DTEND:20260506T142630
LOCATION:Gewerbepark 13, 8562 Mooskirchen
DTSTAMP:20260423T012001
SUMMARY:MyAuktion: Ablauf Artikel Nr. 958016 VCM Regal Bulas 5fach Anthrazit 918413  
URL;VALUE=URI:https://www.myauktion.com/versteigerung7660-position2443335-vcm-regal-bulas-5fach-anthrazit-918413.php
DESCRIPTION:
UID:myauktion-7660-2443335
BEGIN:VALARM
ACTION:DISPLAY
DESCRIPTION:
TRIGGER:-PT10M
END:VALARM
END:VEVENT
END:VCALENDAR