BEGIN:VCALENDAR
VERSION:2.0
PRODID:-//Goldgrube//myauktion.com//AT
CALSCALE:GREGORIAN
BEGIN:VEVENT
DTSTART:20260506T142700
DTEND:20260506T142730
LOCATION:Gewerbepark 13, 8562 Mooskirchen
DTSTAMP:20260423T012000
SUMMARY:MyAuktion: Ablauf Artikel Nr. 958017 TKT Work System Steckregal 180x120x40cm 
URL;VALUE=URI:https://www.myauktion.com/versteigerung7660-position2443337-tkt-work-system-steckregal-180x120x40cm.php
DESCRIPTION:
UID:myauktion-7660-2443337
BEGIN:VALARM
ACTION:DISPLAY
DESCRIPTION:
TRIGGER:-PT10M
END:VALARM
END:VEVENT
END:VCALENDAR