BEGIN:VCALENDAR
VERSION:2.0
PRODID:-//Goldgrube//myauktion.com//AT
CALSCALE:GREGORIAN
BEGIN:VEVENT
DTSTART:20260506T142800
DTEND:20260506T142830
LOCATION:Gewerbepark 13, 8562 Mooskirchen
DTSTAMP:20260423T011956
SUMMARY:MyAuktion: Ablauf Artikel Nr. 958018 Ikea Hemnes weiß 83x16x98cm 402.176.77 
URL;VALUE=URI:https://www.myauktion.com/versteigerung7660-position2443338-ikea-hemnes-weiss-83x16x98cm-40217677.php
DESCRIPTION:
UID:myauktion-7660-2443338
BEGIN:VALARM
ACTION:DISPLAY
DESCRIPTION:
TRIGGER:-PT10M
END:VALARM
END:VEVENT
END:VCALENDAR