BEGIN:VCALENDAR
VERSION:2.0
PRODID:-//Goldgrube//myauktion.com//AT
CALSCALE:GREGORIAN
BEGIN:VEVENT
DTSTART:20260506T131700
DTEND:20260506T131730
LOCATION:Gewerbepark 13, 8562 Mooskirchen
DTSTAMP:20260423T011959
SUMMARY:MyAuktion: Ablauf Artikel Nr. 957192 Pflug Streifen Nr.3 links 
URL;VALUE=URI:https://www.myauktion.com/versteigerung7660-position2443339-pflug-streifen-nr3-links.php
DESCRIPTION:Ca 62cm lang
UID:myauktion-7660-2443339
BEGIN:VALARM
ACTION:DISPLAY
DESCRIPTION:Ca 62cm lang
TRIGGER:-PT10M
END:VALARM
END:VEVENT
END:VCALENDAR