BEGIN:VCALENDAR
VERSION:2.0
PRODID:-//Goldgrube//myauktion.com//AT
CALSCALE:GREGORIAN
BEGIN:VEVENT
DTSTART:20260506T135600
DTEND:20260506T135630
LOCATION:Gewerbepark 13, 8562 Mooskirchen
DTSTAMP:20260423T012002
SUMMARY:MyAuktion: Ablauf Artikel Nr. 957914 Puzzle you Bilderrahmen Silber ca 91x68cm
URL;VALUE=URI:https://www.myauktion.com/versteigerung7660-position2443340-puzzle-you-bilderrahmen-silber-ca-91x68cm.php
DESCRIPTION:
UID:myauktion-7660-2443340
BEGIN:VALARM
ACTION:DISPLAY
DESCRIPTION:
TRIGGER:-PT10M
END:VALARM
END:VEVENT
END:VCALENDAR