BEGIN:VCALENDAR
VERSION:2.0
PRODID:-//Goldgrube//myauktion.com//AT
CALSCALE:GREGORIAN
BEGIN:VEVENT
DTSTART:20260506T131800
DTEND:20260506T131830
LOCATION:Gewerbepark 13, 8562 Mooskirchen
DTSTAMP:20260423T012001
SUMMARY:MyAuktion: Ablauf Artikel Nr. 957193 Puzzle Store&Go Puzzlemappe
URL;VALUE=URI:https://www.myauktion.com/versteigerung7660-position2443341-puzzle-store-38go-puzzlemappe.php
DESCRIPTION:Ca 76×56cm
UID:myauktion-7660-2443341
BEGIN:VALARM
ACTION:DISPLAY
DESCRIPTION:Ca 76×56cm
TRIGGER:-PT10M
END:VALARM
END:VEVENT
END:VCALENDAR