BEGIN:VCALENDAR
VERSION:2.0
PRODID:-//Goldgrube//myauktion.com//AT
CALSCALE:GREGORIAN
BEGIN:VEVENT
DTSTART:20260506T142900
DTEND:20260506T142930
LOCATION:Gewerbepark 13, 8562 Mooskirchen
DTSTAMP:20260423T011954
SUMMARY:MyAuktion: Ablauf Artikel Nr. 958019 Bottom Load Water Dispenser (electronic cooling) 
URL;VALUE=URI:https://www.myauktion.com/versteigerung7660-position2443342-bottom-load-water-dispenser-electronic-cooling.php
DESCRIPTION:Gebraucht, Funktion nicht getestet 
UID:myauktion-7660-2443342
BEGIN:VALARM
ACTION:DISPLAY
DESCRIPTION:Gebraucht, Funktion nicht getestet 
TRIGGER:-PT10M
END:VALARM
END:VEVENT
END:VCALENDAR