BEGIN:VCALENDAR
VERSION:2.0
PRODID:-//Goldgrube//myauktion.com//AT
CALSCALE:GREGORIAN
BEGIN:VEVENT
DTSTART:20260506T143000
DTEND:20260506T143030
LOCATION:Gewerbepark 13, 8562 Mooskirchen
DTSTAMP:20260423T011958
SUMMARY:MyAuktion: Ablauf Artikel Nr. 958020 Ondega Kippliege "Sophie 1 " 
URL;VALUE=URI:https://www.myauktion.com/versteigerung7660-position2443343-ondega-kippliege-34sophie-1-34.php
DESCRIPTION:
UID:myauktion-7660-2443343
BEGIN:VALARM
ACTION:DISPLAY
DESCRIPTION:
TRIGGER:-PT10M
END:VALARM
END:VEVENT
END:VCALENDAR